BEGIN:VCALENDAR
VERSION:2.0
PRODID:-//pretix//pretix.eu//
BEGIN:VTIMEZONE
TZID:Europe/Berlin
BEGIN:STANDARD
DTSTART:20001029T040000
RRULE:FREQ=YEARLY;BYDAY=-1SU;BYMONTH=10
TZNAME:CET
TZOFFSETFROM:+0200
TZOFFSETTO:+0100
END:STANDARD
BEGIN:DAYLIGHT
DTSTART:20000326T030000
RRULE:FREQ=YEARLY;BYDAY=-1SU;BYMONTH=3
TZNAME:CEST
TZOFFSETFROM:+0100
TZOFFSETTO:+0200
END:DAYLIGHT
END:VTIMEZONE
BEGIN:VEVENT
UID:pretix-dfvefg-boty-kaisersaal-0@tickets.dfv-eurofinance.com
DTSTART;TZID=Europe/Berlin:20251118T180000
DTEND;TZID=Europe/Berlin:20251118T190000
DESCRIPTION:Tickets: https://tickets.dfv-eurofinance.com/boty-kaisersaal/\n
 Veranstalter: dfv Eurofinance Group GmbH
DTSTAMP:20260423T063017Z
LOCATION:Kaisersaal\, Frankfurter Römer\, Römerberg 23\, 60311 Frankfurt 
 am Main
SUMMARY:European Banker of the Year 2024 - Preisverleihung Kaisersaal
END:VEVENT
END:VCALENDAR
