BEGIN:VCALENDAR
VERSION:2.0
PRODID:-//pretix//pretix.eu//
BEGIN:VTIMEZONE
TZID:US/Eastern
BEGIN:STANDARD
DTSTART:20001029T030000
RRULE:FREQ=YEARLY;BYDAY=-1SU;BYMONTH=10;UNTIL=20061029T070000Z
TZNAME:EST
TZOFFSETFROM:-0400
TZOFFSETTO:-0500
END:STANDARD
BEGIN:STANDARD
DTSTART:20071104T030000
RRULE:FREQ=YEARLY;BYDAY=1SU;BYMONTH=11
TZNAME:EST
TZOFFSETFROM:-0400
TZOFFSETTO:-0500
END:STANDARD
BEGIN:DAYLIGHT
DTSTART:20000402T030000
RRULE:FREQ=YEARLY;BYDAY=1SU;BYMONTH=4;UNTIL=20060402T080000Z
TZNAME:EDT
TZOFFSETFROM:-0500
TZOFFSETTO:-0400
END:DAYLIGHT
BEGIN:DAYLIGHT
DTSTART:20070311T030000
RRULE:FREQ=YEARLY;BYDAY=2SU;BYMONTH=3
TZNAME:EDT
TZOFFSETFROM:-0500
TZOFFSETTO:-0400
END:DAYLIGHT
END:VTIMEZONE
BEGIN:VEVENT
UID:pretix-dfvefg-efmny25-0@tickets.dfv-eurofinance.com
DTSTART;TZID=US/Eastern:20250604T173000
DTEND;TZID=US/Eastern:20250604T220000
DESCRIPTION:Tickets: https://tickets.dfv-eurofinance.com/efmny25/\nOrganize
 r: dfv Eurofinance Group GmbH
DTSTAMP:20260422T120328Z
LOCATION:The Times Square EDITION\, 701 7th Ave\, New York\, NY 10036\, Ver
 einigte Staaten
SUMMARY:Your access to the European Fund Market - Roadshow Event - New York
  City
END:VEVENT
END:VCALENDAR
