BEGIN:VCALENDAR
VERSION:2.0
PRODID:-//pretix//pretix.eu//
BEGIN:VTIMEZONE
TZID:Europe/Berlin
BEGIN:STANDARD
DTSTART:20001029T040000
RRULE:FREQ=YEARLY;BYDAY=-1SU;BYMONTH=10
TZNAME:CET
TZOFFSETFROM:+0200
TZOFFSETTO:+0100
END:STANDARD
BEGIN:DAYLIGHT
DTSTART:20000326T030000
RRULE:FREQ=YEARLY;BYDAY=-1SU;BYMONTH=3
TZNAME:CEST
TZOFFSETFROM:+0100
TZOFFSETTO:+0200
END:DAYLIGHT
END:VTIMEZONE
BEGIN:VEVENT
UID:pretix-dfvefg-hqt25-0@tickets.dfv-eurofinance.com
DTSTART;TZID=Europe/Berlin:20251120T090000
DTEND;TZID=Europe/Berlin:20251120T183000
DESCRIPTION:Tickets: https://tickets.dfv-eurofinance.com/hqt25/\nVeranstalt
 er: dfv Eurofinance Group GmbH
DTSTAMP:20260422T054304Z
LOCATION:Steigenberger Icon Frankfurter Hof\, Am Kaiserplatz\, Bethmannstra
 ße 33\, 60311 Frankfurt am Main
SUMMARY:HQ Trust Investors Forum 2025
END:VEVENT
END:VCALENDAR
